Package: AffyRNADegradation Version: 1.54.0 Maintainer: Mario Fasold MaintainerEmail: fasold at izbi.uni-leipzig.de git_url: https://git.bioconductor.org/packages/AffyRNADegradation git_branch: RELEASE_3_21 git_last_commit: 72ba713 git_last_commit_date: 2025-04-15 10:11:56 -0400 (Tue, 15 Apr 2025)