Package: AffiXcan Version: 1.26.0 Command: E:\biocbuild\bbs-3.21-bioc\R\bin\R.exe CMD check --no-multiarch --install=check:AffiXcan.install-out.txt --library=E:\biocbuild\bbs-3.21-bioc\R\library --no-vignettes --timings AffiXcan_1.26.0.tar.gz StartedAt: 2025-08-14 23:16:32 -0400 (Thu, 14 Aug 2025) EndedAt: 2025-08-14 23:22:46 -0400 (Thu, 14 Aug 2025) EllapsedTime: 373.3 seconds RetCode: 0 Status: OK CheckDir: AffiXcan.Rcheck Warnings: 0