Package: AffiXcan Version: 1.26.0 Command: /Library/Frameworks/R.framework/Resources/bin/R CMD INSTALL AffiXcan StartedAt: 2025-10-13 15:38:36 -0400 (Mon, 13 Oct 2025) EndedAt: 2025-10-13 15:39:24 -0400 (Mon, 13 Oct 2025) EllapsedTime: 47.8 seconds RetCode: 0 Status: OK