Package: AffiXcan Version: 1.26.0 Command: /home/biocbuild/R/R/bin/R CMD INSTALL AffiXcan StartedAt: 2025-10-13 20:34:21 -0000 (Mon, 13 Oct 2025) EndedAt: 2025-10-13 20:34:52 -0000 (Mon, 13 Oct 2025) EllapsedTime: 31.2 seconds RetCode: 0 Status: OK