Package: AffiXcan Version: 1.26.0 Command: /home/biocbuild/R/R/bin/R CMD build --keep-empty-dirs --no-resave-data AffiXcan StartedAt: 2025-10-13 22:29:11 -0000 (Mon, 13 Oct 2025) EndedAt: 2025-10-13 22:30:07 -0000 (Mon, 13 Oct 2025) EllapsedTime: 56.0 seconds RetCode: 0 Status: OK PackageFile: AffiXcan_1.26.0.tar.gz PackageFileSize: 2.441 MiB