Package: AffiXcan Version: 1.26.0 Command: /Library/Frameworks/R.framework/Resources/bin/R CMD INSTALL AffiXcan StartedAt: 2025-10-13 16:23:02 -0400 (Mon, 13 Oct 2025) EndedAt: 2025-10-13 16:23:29 -0400 (Mon, 13 Oct 2025) EllapsedTime: 27.0 seconds RetCode: 0 Status: OK