Package: AffiXcan Version: 1.26.0 Command: /Library/Frameworks/R.framework/Resources/bin/R CMD check --install=check:AffiXcan.install-out.txt --library=/Library/Frameworks/R.framework/Resources/library --no-vignettes --timings AffiXcan_1.26.0.tar.gz StartedAt: 2025-10-14 12:17:36 -0400 (Tue, 14 Oct 2025) EndedAt: 2025-10-14 12:20:48 -0400 (Tue, 14 Oct 2025) EllapsedTime: 191.5 seconds RetCode: 0 Status: OK CheckDir: AffiXcan.Rcheck Warnings: 0