Package: AffiXcan Version: 1.26.0 Command: rm -rf AffiXcan.buildbin-libdir && mkdir AffiXcan.buildbin-libdir && /Users/biocbuild/BBS/utils/build-universal.sh AffiXcan_1.26.0.tar.gz /Library/Frameworks/R.framework/Resources/bin/R AffiXcan.buildbin-libdir StartedAt: 2025-10-15 17:19:33 -0400 (Wed, 15 Oct 2025) EndedAt: 2025-10-15 17:20:03 -0400 (Wed, 15 Oct 2025) EllapsedTime: 30.4 seconds RetCode: 0 Status: OK PackageFile: AffiXcan_1.26.0.tgz PackageFileSize: 2.032 MiB