Package: AWFisher Version: 1.22.0 Command: chmod a+r AWFisher -R && E:\biocbuild\bbs-3.21-bioc\R\bin\R.exe CMD build --keep-empty-dirs --no-resave-data AWFisher StartedAt: 2025-08-14 17:25:23 -0400 (Thu, 14 Aug 2025) EndedAt: 2025-08-14 17:26:01 -0400 (Thu, 14 Aug 2025) EllapsedTime: 38.8 seconds RetCode: 0 Status: OK PackageFile: AWFisher_1.22.0.tar.gz PackageFileSize: 1.341 MiB