Package: AWFisher Version: 1.22.0 Command: /home/biocbuild/R/R/bin/R CMD build --keep-empty-dirs --no-resave-data AWFisher StartedAt: 2025-09-29 22:41:50 -0000 (Mon, 29 Sep 2025) EndedAt: 2025-09-29 22:42:30 -0000 (Mon, 29 Sep 2025) EllapsedTime: 40.0 seconds RetCode: 0 Status: OK PackageFile: AWFisher_1.22.0.tar.gz PackageFileSize: 1.378 MiB