Package: AUCell Version: 1.30.0 Command: rm -rf AUCell.buildbin-libdir && mkdir AUCell.buildbin-libdir && /Users/biocbuild/BBS/utils/build-universal.sh AUCell_1.30.0.tar.gz /Library/Frameworks/R.framework/Resources/bin/R AUCell.buildbin-libdir StartedAt: 2025-04-21 22:26:31 -0400 (Mon, 21 Apr 2025) EndedAt: 2025-04-21 22:26:46 -0400 (Mon, 21 Apr 2025) EllapsedTime: 14.3 seconds RetCode: 0 Status: OK PackageFile: AUCell_1.30.0.tgz PackageFileSize: 2.814 MiB