Package: ASURAT Version: 1.12.0 Command: /home/biocbuild/bbs-3.21-bioc/R/bin/R CMD check --install=check:ASURAT.install-out.txt --library=/home/biocbuild/bbs-3.21-bioc/R/site-library --timings ASURAT_1.12.0.tar.gz StartedAt: 2025-10-15 20:51:36 -0400 (Wed, 15 Oct 2025) EndedAt: 2025-10-15 21:08:01 -0400 (Wed, 15 Oct 2025) EllapsedTime: 985.1 seconds RetCode: 0 Status: OK CheckDir: ASURAT.Rcheck Warnings: 0