Package: ASURAT Version: 1.12.0 Command: /Library/Frameworks/R.framework/Resources/bin/R CMD INSTALL ASURAT StartedAt: 2025-10-13 15:42:52 -0400 (Mon, 13 Oct 2025) EndedAt: 2025-10-13 15:44:00 -0400 (Mon, 13 Oct 2025) EllapsedTime: 67.7 seconds RetCode: 0 Status: OK