Package: ASURAT Version: 1.12.0 Command: /Library/Frameworks/R.framework/Resources/bin/R CMD build --keep-empty-dirs --no-resave-data ASURAT StartedAt: 2025-10-13 17:06:44 -0400 (Mon, 13 Oct 2025) EndedAt: 2025-10-13 17:40:12 -0400 (Mon, 13 Oct 2025) EllapsedTime: 2007.4 seconds RetCode: 0 Status: OK PackageFile: ASURAT_1.12.0.tar.gz PackageFileSize: 1.751 MiB