Package: ASURAT Version: 1.12.0 Command: rm -rf ASURAT.buildbin-libdir && mkdir ASURAT.buildbin-libdir && /Users/biocbuild/BBS/utils/build-universal.sh ASURAT_1.12.0.tar.gz /Library/Frameworks/R.framework/Resources/bin/R ASURAT.buildbin-libdir StartedAt: 2025-10-14 12:51:10 -0400 (Tue, 14 Oct 2025) EndedAt: 2025-10-14 12:52:23 -0400 (Tue, 14 Oct 2025) EllapsedTime: 72.7 seconds RetCode: 0 Status: OK PackageFile: ASURAT_1.12.0.tgz PackageFileSize: 3.605 MiB