Package: ASURAT Version: 1.12.0 Command: /Library/Frameworks/R.framework/Resources/bin/R CMD INSTALL ASURAT StartedAt: 2025-10-13 16:31:36 -0400 (Mon, 13 Oct 2025) EndedAt: 2025-10-13 16:32:14 -0400 (Mon, 13 Oct 2025) EllapsedTime: 37.7 seconds RetCode: 0 Status: OK