Package: ASURAT Version: 1.12.0 Command: /Library/Frameworks/R.framework/Resources/bin/R CMD check --install=check:ASURAT.install-out.txt --library=/Library/Frameworks/R.framework/Resources/library --no-vignettes --timings ASURAT_1.12.0.tar.gz StartedAt: 2025-10-14 13:03:32 -0400 (Tue, 14 Oct 2025) EndedAt: 2025-10-14 13:08:02 -0400 (Tue, 14 Oct 2025) EllapsedTime: 269.7 seconds RetCode: 0 Status: OK CheckDir: ASURAT.Rcheck Warnings: 0