Package: ASICS Version: 2.24.0 Command: E:\biocbuild\bbs-3.21-bioc\R\bin\R.exe CMD check --no-multiarch --install=check:ASICS.install-out.txt --library=E:\biocbuild\bbs-3.21-bioc\R\library --no-vignettes --timings ASICS_2.24.0.tar.gz StartedAt: 2025-08-14 23:30:16 -0400 (Thu, 14 Aug 2025) EndedAt: 2025-08-14 23:45:49 -0400 (Thu, 14 Aug 2025) EllapsedTime: 932.8 seconds RetCode: 0 Status: WARNINGS CheckDir: ASICS.Rcheck Warnings: 1