Package: ASICS Version: 2.24.0 Command: /home/biocbuild/bbs-3.21-bioc/R/bin/R CMD build --keep-empty-dirs --no-resave-data ASICS StartedAt: 2025-10-15 16:12:38 -0400 (Wed, 15 Oct 2025) EndedAt: 2025-10-15 16:15:33 -0400 (Wed, 15 Oct 2025) EllapsedTime: 175.2 seconds RetCode: 0 Status: OK PackageFile: ASICS_2.24.0.tar.gz PackageFileSize: 3.581 MiB