Package: ASICS Version: 2.24.0 Command: /Library/Frameworks/R.framework/Resources/bin/R CMD check --install=check:ASICS.install-out.txt --library=/Library/Frameworks/R.framework/Resources/library --no-vignettes --timings ASICS_2.24.0.tar.gz StartedAt: 2025-10-14 00:07:14 -0400 (Tue, 14 Oct 2025) EndedAt: 2025-10-14 00:30:53 -0400 (Tue, 14 Oct 2025) EllapsedTime: 1419.6 seconds RetCode: 0 Status: WARNINGS CheckDir: ASICS.Rcheck Warnings: 1