Package: ASICS Version: 2.24.0 Command: /Library/Frameworks/R.framework/Resources/bin/R CMD check --install=check:ASICS.install-out.txt --library=/Library/Frameworks/R.framework/Resources/library --no-vignettes --timings ASICS_2.24.0.tar.gz StartedAt: 2025-04-21 19:06:19 -0400 (Mon, 21 Apr 2025) EndedAt: 2025-04-21 19:19:46 -0400 (Mon, 21 Apr 2025) EllapsedTime: 806.9 seconds RetCode: 0 Status: WARNINGS CheckDir: ASICS.Rcheck Warnings: 1