Package: ASICS Version: 2.24.0 Command: /home/biocbuild/R/R/bin/R CMD INSTALL ASICS StartedAt: 2025-10-13 20:35:14 -0000 (Mon, 13 Oct 2025) EndedAt: 2025-10-13 20:36:04 -0000 (Mon, 13 Oct 2025) EllapsedTime: 50.0 seconds RetCode: 0 Status: OK