Package: ASICS Version: 2.24.0 Command: /home/biocbuild/R/R/bin/R CMD build --keep-empty-dirs --no-resave-data ASICS StartedAt: 2025-10-13 22:37:49 -0000 (Mon, 13 Oct 2025) EndedAt: 2025-10-13 22:42:34 -0000 (Mon, 13 Oct 2025) EllapsedTime: 284.1 seconds RetCode: 0 Status: OK PackageFile: ASICS_2.24.0.tar.gz PackageFileSize: 3.582 MiB