Package: ASICS Version: 2.24.0 Command: /Library/Frameworks/R.framework/Resources/bin/R CMD INSTALL ASICS StartedAt: 2025-10-13 16:21:18 -0400 (Mon, 13 Oct 2025) EndedAt: 2025-10-13 16:21:58 -0400 (Mon, 13 Oct 2025) EllapsedTime: 39.4 seconds RetCode: 0 Status: OK