Package: ASICS Version: 2.24.0 Command: /Library/Frameworks/R.framework/Resources/bin/R CMD build --keep-empty-dirs --no-resave-data ASICS StartedAt: 2025-10-13 19:11:11 -0400 (Mon, 13 Oct 2025) EndedAt: 2025-10-13 19:15:49 -0400 (Mon, 13 Oct 2025) EllapsedTime: 278.0 seconds RetCode: 0 Status: OK PackageFile: ASICS_2.24.0.tar.gz PackageFileSize: 3.581 MiB