Package: ASEB Version: 1.52.0 Command: E:\biocbuild\bbs-3.21-bioc\R\bin\R.exe CMD check --no-multiarch --install=check:ASEB.install-out.txt --library=E:\biocbuild\bbs-3.21-bioc\R\library --no-vignettes --timings ASEB_1.52.0.tar.gz StartedAt: 2025-08-14 23:30:14 -0400 (Thu, 14 Aug 2025) EndedAt: 2025-08-14 23:31:03 -0400 (Thu, 14 Aug 2025) EllapsedTime: 48.9 seconds RetCode: 0 Status: OK CheckDir: ASEB.Rcheck Warnings: 0