Package: ASEB Version: 1.52.0 Command: rm -rf ASEB.buildbin-libdir && mkdir ASEB.buildbin-libdir && E:\biocbuild\bbs-3.21-bioc\R\bin\R.exe CMD INSTALL --build --library=ASEB.buildbin-libdir ASEB_1.52.0.tar.gz StartedAt: 2025-08-15 08:46:45 -0400 (Fri, 15 Aug 2025) EndedAt: 2025-08-15 08:47:05 -0400 (Fri, 15 Aug 2025) EllapsedTime: 19.9 seconds RetCode: 0 Status: OK PackageFile: ASEB_1.52.0.zip PackageFileSize: 989.6 KiB