Package: ASAFE Version: 1.34.0 Command: /Library/Frameworks/R.framework/Resources/bin/R CMD check --install=check:ASAFE.install-out.txt --library=/Library/Frameworks/R.framework/Resources/library --no-vignettes --timings ASAFE_1.34.0.tar.gz StartedAt: 2025-09-26 00:06:54 -0400 (Fri, 26 Sep 2025) EndedAt: 2025-09-26 00:07:34 -0400 (Fri, 26 Sep 2025) EllapsedTime: 40.2 seconds RetCode: 0 Status: OK CheckDir: ASAFE.Rcheck Warnings: 0