Package: ASAFE Version: 1.34.0 Command: rm -rf ASAFE.buildbin-libdir && mkdir ASAFE.buildbin-libdir && /Users/biocbuild/BBS/utils/build-universal.sh ASAFE_1.34.0.tar.gz /Library/Frameworks/R.framework/Resources/bin/R ASAFE.buildbin-libdir StartedAt: 2025-09-26 12:56:06 -0400 (Fri, 26 Sep 2025) EndedAt: 2025-09-26 12:56:14 -0400 (Fri, 26 Sep 2025) EllapsedTime: 7.8 seconds RetCode: 0 Status: OK PackageFile: ASAFE_1.34.0.tgz PackageFileSize: 585.5 KiB