Package: ASAFE Version: 1.34.0 Command: /Library/Frameworks/R.framework/Resources/bin/R CMD check --install=check:ASAFE.install-out.txt --library=/Library/Frameworks/R.framework/Resources/library --no-vignettes --timings ASAFE_1.34.0.tar.gz StartedAt: 2025-04-21 19:06:04 -0400 (Mon, 21 Apr 2025) EndedAt: 2025-04-21 19:06:33 -0400 (Mon, 21 Apr 2025) EllapsedTime: 28.9 seconds RetCode: 0 Status: OK CheckDir: ASAFE.Rcheck Warnings: 0