Package: ASAFE Version: 1.34.0 Command: /Library/Frameworks/R.framework/Resources/bin/R CMD build --keep-empty-dirs --no-resave-data ASAFE StartedAt: 2025-04-21 15:57:24 -0400 (Mon, 21 Apr 2025) EndedAt: 2025-04-21 15:57:35 -0400 (Mon, 21 Apr 2025) EllapsedTime: 11.4 seconds RetCode: 0 Status: OK PackageFile: ASAFE_1.34.0.tar.gz PackageFileSize: 426.5 KiB