Package: ASAFE Version: 1.34.0 Command: rm -rf ASAFE.buildbin-libdir && mkdir ASAFE.buildbin-libdir && /Users/biocbuild/BBS/utils/build-universal.sh ASAFE_1.34.0.tar.gz /Library/Frameworks/R.framework/Resources/bin/R ASAFE.buildbin-libdir StartedAt: 2025-04-22 00:33:38 -0400 (Tue, 22 Apr 2025) EndedAt: 2025-04-22 00:33:44 -0400 (Tue, 22 Apr 2025) EllapsedTime: 5.9 seconds RetCode: 0 Status: OK PackageFile: ASAFE_1.34.0.tgz PackageFileSize: 586.2 KiB