Package: ANF Version: 1.30.0 Command: E:\biocbuild\bbs-3.21-bioc\R\bin\R.exe CMD INSTALL ANF StartedAt: 2025-08-14 15:38:15 -0400 (Thu, 14 Aug 2025) EndedAt: 2025-08-14 15:38:25 -0400 (Thu, 14 Aug 2025) EllapsedTime: 10.3 seconds RetCode: 0 Status: OK