Package: ANF Version: 1.30.0 Command: /Library/Frameworks/R.framework/Resources/bin/R CMD check --install=check:ANF.install-out.txt --library=/Library/Frameworks/R.framework/Resources/library --no-vignettes --timings ANF_1.30.0.tar.gz StartedAt: 2025-10-13 23:57:54 -0400 (Mon, 13 Oct 2025) EndedAt: 2025-10-14 00:01:10 -0400 (Tue, 14 Oct 2025) EllapsedTime: 196.2 seconds RetCode: 0 Status: OK CheckDir: ANF.Rcheck Warnings: 0