Package: ANF Version: 1.30.0 Command: /home/biocbuild/R/R/bin/R CMD check --install=check:ANF.install-out.txt --library=/home/biocbuild/R/R/site-library --no-vignettes --timings ANF_1.30.0.tar.gz StartedAt: 2025-10-14 06:10:54 -0000 (Tue, 14 Oct 2025) EndedAt: 2025-10-14 06:15:09 -0000 (Tue, 14 Oct 2025) EllapsedTime: 254.5 seconds RetCode: 0 Status: OK CheckDir: ANF.Rcheck Warnings: 0