Package: ANF Version: 1.30.0 Command: rm -rf ANF.buildbin-libdir && mkdir ANF.buildbin-libdir && /Users/biocbuild/BBS/utils/build-universal.sh ANF_1.30.0.tar.gz /Library/Frameworks/R.framework/Resources/bin/R ANF.buildbin-libdir StartedAt: 2025-10-15 17:23:28 -0400 (Wed, 15 Oct 2025) EndedAt: 2025-10-15 17:23:39 -0400 (Wed, 15 Oct 2025) EllapsedTime: 10.4 seconds RetCode: 0 Status: OK PackageFile: ANF_1.30.0.tgz PackageFileSize: 251.8 KiB