Package: ANCOMBC Version: 2.10.1 Command: /home/biocbuild/bbs-3.21-bioc/R/bin/R CMD check --install=check:ANCOMBC.install-out.txt --library=/home/biocbuild/bbs-3.21-bioc/R/site-library --timings ANCOMBC_2.10.1.tar.gz StartedAt: 2025-10-15 20:45:43 -0400 (Wed, 15 Oct 2025) EndedAt: 2025-10-15 21:11:08 -0400 (Wed, 15 Oct 2025) EllapsedTime: 1525.3 seconds RetCode: 0 Status: OK CheckDir: ANCOMBC.Rcheck Warnings: 0