Package: ANCOMBC Version: 2.10.1 Command: /Library/Frameworks/R.framework/Resources/bin/R CMD INSTALL ANCOMBC StartedAt: 2025-10-13 15:14:25 -0400 (Mon, 13 Oct 2025) EndedAt: 2025-10-13 15:15:20 -0400 (Mon, 13 Oct 2025) EllapsedTime: 55.1 seconds RetCode: 0 Status: OK