Package: ANCOMBC Version: 2.10.0 Command: /Library/Frameworks/R.framework/Resources/bin/R CMD INSTALL ANCOMBC StartedAt: 2025-04-21 15:08:54 -0400 (Mon, 21 Apr 2025) EndedAt: 2025-04-21 15:09:15 -0400 (Mon, 21 Apr 2025) EllapsedTime: 21.4 seconds RetCode: 0 Status: OK