Package: ANCOMBC Version: 2.10.1 Command: /home/biocbuild/R/R/bin/R CMD check --install=check:ANCOMBC.install-out.txt --library=/home/biocbuild/R/R/site-library --no-vignettes --timings ANCOMBC_2.10.1.tar.gz StartedAt: 2025-10-14 06:09:28 -0000 (Tue, 14 Oct 2025) EndedAt: 2025-10-14 06:17:42 -0000 (Tue, 14 Oct 2025) EllapsedTime: 493.9 seconds RetCode: 0 Status: OK CheckDir: ANCOMBC.Rcheck Warnings: 0