Package: ANCOMBC Version: 2.10.0 Command: /Library/Frameworks/R.framework/Resources/bin/R CMD check --install=check:ANCOMBC.install-out.txt --library=/Library/Frameworks/R.framework/Resources/library --no-vignettes --timings ANCOMBC_2.10.0.tar.gz StartedAt: 2025-04-21 18:07:28 -0400 (Mon, 21 Apr 2025) EndedAt: 2025-04-21 18:09:10 -0400 (Mon, 21 Apr 2025) EllapsedTime: 102.4 seconds RetCode: 0 Status: OK CheckDir: ANCOMBC.Rcheck Warnings: 0