Package: ANCOMBC Version: 2.10.0 Command: rm -rf ANCOMBC.buildbin-libdir && mkdir ANCOMBC.buildbin-libdir && /Users/biocbuild/BBS/utils/build-universal.sh ANCOMBC_2.10.0.tar.gz /Library/Frameworks/R.framework/Resources/bin/R ANCOMBC.buildbin-libdir StartedAt: 2025-04-21 22:26:03 -0400 (Mon, 21 Apr 2025) EndedAt: 2025-04-21 22:26:10 -0400 (Mon, 21 Apr 2025) EllapsedTime: 7.1 seconds RetCode: 0 Status: OK PackageFile: ANCOMBC_2.10.0.tgz PackageFileSize: 1.439 MiB