Package: AMARETTO Version: 1.24.0 Command: E:\biocbuild\bbs-3.21-bioc\R\bin\R.exe CMD INSTALL AMARETTO StartedAt: 2025-08-14 17:03:05 -0400 (Thu, 14 Aug 2025) EndedAt: 2025-08-14 17:04:11 -0400 (Thu, 14 Aug 2025) EllapsedTime: 66.4 seconds RetCode: 0 Status: OK