Package: AMARETTO Version: 1.24.0 Command: chmod a+r AMARETTO -R && E:\biocbuild\bbs-3.21-bioc\R\bin\R.exe CMD build --keep-empty-dirs --no-resave-data AMARETTO StartedAt: 2025-08-14 17:19:09 -0400 (Thu, 14 Aug 2025) EndedAt: 2025-08-14 17:20:48 -0400 (Thu, 14 Aug 2025) EllapsedTime: 98.1 seconds RetCode: 0 Status: OK PackageFile: AMARETTO_1.24.0.tar.gz PackageFileSize: 3.174 MiB