Package: AMARETTO Version: 1.24.0 Command: /Library/Frameworks/R.framework/Resources/bin/R CMD INSTALL AMARETTO StartedAt: 2025-10-13 16:40:18 -0400 (Mon, 13 Oct 2025) EndedAt: 2025-10-13 16:41:34 -0400 (Mon, 13 Oct 2025) EllapsedTime: 76.4 seconds RetCode: 0 Status: OK