Package: AMARETTO Version: 1.24.0 Command: /Library/Frameworks/R.framework/Resources/bin/R CMD build --keep-empty-dirs --no-resave-data AMARETTO StartedAt: 2025-10-13 17:02:01 -0400 (Mon, 13 Oct 2025) EndedAt: 2025-10-13 17:03:59 -0400 (Mon, 13 Oct 2025) EllapsedTime: 118.4 seconds RetCode: 0 Status: OK PackageFile: AMARETTO_1.24.0.tar.gz PackageFileSize: 3.228 MiB