Package: AMARETTO Version: 1.24.0 Command: /home/biocbuild/R/R/bin/R CMD check --install=check:AMARETTO.install-out.txt --library=/home/biocbuild/R/R/site-library --no-vignettes --timings AMARETTO_1.24.0.tar.gz StartedAt: 2025-10-14 06:08:41 -0000 (Tue, 14 Oct 2025) EndedAt: 2025-10-14 06:16:09 -0000 (Tue, 14 Oct 2025) EllapsedTime: 447.7 seconds RetCode: 0 Status: WARNINGS CheckDir: AMARETTO.Rcheck Warnings: 1