Package: AMARETTO Version: 1.24.0 Command: rm -rf AMARETTO.buildbin-libdir && mkdir AMARETTO.buildbin-libdir && /Users/biocbuild/BBS/utils/build-universal.sh AMARETTO_1.24.0.tar.gz /Library/Frameworks/R.framework/Resources/bin/R AMARETTO.buildbin-libdir StartedAt: 2025-04-21 22:26:00 -0400 (Mon, 21 Apr 2025) EndedAt: 2025-04-21 22:26:15 -0400 (Mon, 21 Apr 2025) EllapsedTime: 15.3 seconds RetCode: 0 Status: OK PackageFile: AMARETTO_1.24.0.tgz PackageFileSize: 3.467 MiB