Package: AMARETTO Version: 1.24.0 Command: rm -rf AMARETTO.buildbin-libdir && mkdir AMARETTO.buildbin-libdir && /Users/biocbuild/BBS/utils/build-universal.sh AMARETTO_1.24.0.tar.gz /Library/Frameworks/R.framework/Resources/bin/R AMARETTO.buildbin-libdir StartedAt: 2025-10-15 17:23:13 -0400 (Wed, 15 Oct 2025) EndedAt: 2025-10-15 17:24:00 -0400 (Wed, 15 Oct 2025) EllapsedTime: 47.9 seconds RetCode: 0 Status: OK PackageFile: AMARETTO_1.24.0.tgz PackageFileSize: 3.432 MiB