Package: AIMS Version: 1.40.0 Command: rm -rf AIMS.buildbin-libdir && mkdir AIMS.buildbin-libdir && E:\biocbuild\bbs-3.21-bioc\R\bin\R.exe CMD INSTALL --build --library=AIMS.buildbin-libdir AIMS_1.40.0.tar.gz StartedAt: 2025-08-15 08:43:53 -0400 (Fri, 15 Aug 2025) EndedAt: 2025-08-15 08:44:07 -0400 (Fri, 15 Aug 2025) EllapsedTime: 14.5 seconds RetCode: 0 Status: OK PackageFile: AIMS_1.40.0.zip PackageFileSize: 505.5 KiB